BEGIN:VCALENDAR
VERSION:2.0
PRODID:-//Virginia Career Works South Central Region - ECPv6.15.20//NONSGML v1.0//EN
CALSCALE:GREGORIAN
METHOD:PUBLISH
X-ORIGINAL-URL:https://vcwsouthcentral.com
X-WR-CALDESC:Events for Virginia Career Works South Central Region
REFRESH-INTERVAL;VALUE=DURATION:PT1H
X-Robots-Tag:noindex
X-PUBLISHED-TTL:PT1H
BEGIN:VTIMEZONE
TZID:America/New_York
BEGIN:DAYLIGHT
TZOFFSETFROM:-0500
TZOFFSETTO:-0400
TZNAME:EDT
DTSTART:20230312T070000
END:DAYLIGHT
BEGIN:STANDARD
TZOFFSETFROM:-0400
TZOFFSETTO:-0500
TZNAME:EST
DTSTART:20231105T060000
END:STANDARD
BEGIN:DAYLIGHT
TZOFFSETFROM:-0500
TZOFFSETTO:-0400
TZNAME:EDT
DTSTART:20240310T070000
END:DAYLIGHT
BEGIN:STANDARD
TZOFFSETFROM:-0400
TZOFFSETTO:-0500
TZNAME:EST
DTSTART:20241103T060000
END:STANDARD
BEGIN:DAYLIGHT
TZOFFSETFROM:-0500
TZOFFSETTO:-0400
TZNAME:EDT
DTSTART:20250309T070000
END:DAYLIGHT
BEGIN:STANDARD
TZOFFSETFROM:-0400
TZOFFSETTO:-0500
TZNAME:EST
DTSTART:20251102T060000
END:STANDARD
BEGIN:DAYLIGHT
TZOFFSETFROM:-0500
TZOFFSETTO:-0400
TZNAME:EDT
DTSTART:20260308T070000
END:DAYLIGHT
BEGIN:STANDARD
TZOFFSETFROM:-0400
TZOFFSETTO:-0500
TZNAME:EST
DTSTART:20261101T060000
END:STANDARD
END:VTIMEZONE
BEGIN:VTIMEZONE
TZID:UTC
BEGIN:STANDARD
TZOFFSETFROM:+0000
TZOFFSETTO:+0000
TZNAME:UTC
DTSTART:20220101T000000
END:STANDARD
END:VTIMEZONE
BEGIN:VEVENT
DTSTART;TZID=America/New_York:20250320T100000
DTEND;TZID=America/New_York:20250320T140000
DTSTAMP:20260422T050722
CREATED:20250127T165258Z
LAST-MODIFIED:20250127T165258Z
UID:17286-1742464800-1742479200@vcwsouthcentral.com
SUMMARY:Cumberland County "HIRING EVENT"
DESCRIPTION:Any employers that are interested in participating in this upcoming event please see the attached flyer and be sure to reach out to Couper Lacks\, our VCW-South Central Business Services Representative. \nJobseekers be sure to mark your calendar for this date and plan to attend this event\, and make sure to “Dress for Success” since you’ll have the opportunity to meet with employer representatives face-to-face that same day! \nFlyers for both Employers and Jobseekers are attached below: \nCumberland Hiring Event – Employer \nCumberland Hiring Event – Jobseeker
URL:https://vcwsouthcentral.com/event/cumberland-county-hiring-event/
LOCATION:Cumberland County Community Center\, 1874 Anderson Highway\, Cumberland\, VA\, 23040\, United States
CATEGORIES:Job Fairs
END:VEVENT
BEGIN:VEVENT
DTSTART;TZID=America/New_York:20250318T100000
DTEND;TZID=America/New_York:20250318T140000
DTSTAMP:20260422T050722
CREATED:20241216T202209Z
LAST-MODIFIED:20250130T203840Z
UID:17276-1742292000-1742306400@vcwsouthcentral.com
SUMMARY:VCW-SBC is happy to host VSP Recruiters
DESCRIPTION:Everyone please stop by our center to discuss employment opportunities and programs that the Virginia State Police offer.  A representative will be on-site from 10am-2pm on the following dates: \nJanuary 30\, 2025 \nFebruary 25\, 2025 \nMarch 18\, 2025 \nApril 17\,2025 \nMay 15\,2025 \nJune 11\, 2025 \nThey’ll be here to answer any questions you may have and provide you with interesting insights into a career in today’s law enforcement! \nVSP-2025-Recruiting-Events (1)
URL:https://vcwsouthcentral.com/event/vcw-sbc-is-happy-to-host-vsp-recruiters-2/
LOCATION:Virginia Career Works – South Boston Center\, 2506 HOUGTON AVE\, SOUTH BOSTON\, VA\, 24592\, United States
CATEGORIES:Job Fairs
END:VEVENT
BEGIN:VEVENT
DTSTART;TZID=America/New_York:20250225T090000
DTEND;TZID=America/New_York:20250225T150000
DTSTAMP:20260422T050722
CREATED:20250205T135635Z
LAST-MODIFIED:20250205T135635Z
UID:17297-1740474000-1740495600@vcwsouthcentral.com
SUMMARY:DARS February Job Shadowing Event
DESCRIPTION:Everyone\, the Virginia Career Works – South Boston Center is proud to host DAR’s February Job Shadowing Event on the 25th from 9am-3pm.  We will have Sentara and the Virginia State Police here onsite discussing their programs and job opportunities\, so make sure to mark your calendar and stop by to find out more! \n02-25-25 DARS JOB SHADOWING EVENT
URL:https://vcwsouthcentral.com/event/dars-february-job-shadowing-event/
LOCATION:Virginia Career Works – South Boston Center\, 2506 HOUGTON AVE\, SOUTH BOSTON\, VA\, 24592\, United States
CATEGORIES:Job Fairs
END:VEVENT
BEGIN:VEVENT
DTSTART;TZID=America/New_York:20250218T100000
DTEND;TZID=America/New_York:20250218T140000
DTSTAMP:20260422T050722
CREATED:20241216T202041Z
LAST-MODIFIED:20250130T203957Z
UID:17275-1739872800-1739887200@vcwsouthcentral.com
SUMMARY:VCW-SBC is happy to host VSP Recruiters
DESCRIPTION:Everyone please stop by our center to discuss employment opportunities and programs that the Virginia State Police offer.  A representative will be on-site from 10am-2pm on the following dates: \nJanuary 30\, 2025 \nFebruary 25\, 2025 \nMarch 18\, 2025 \nApril 17\,2025 \nMay 15\,2025 \nJune 11\, 2025 \nThey’ll be here to answer any questions you may have and provide you with interesting insights into a career in today’s law enforcement! \nVSP-2025-Recruiting-Events (1)
URL:https://vcwsouthcentral.com/event/vcw-sbc-is-happy-to-host-vsp-recruiters/
LOCATION:Virginia Career Works – South Boston Center\, 2506 HOUGTON AVE\, SOUTH BOSTON\, VA\, 24592\, United States
CATEGORIES:Job Fairs
END:VEVENT
BEGIN:VEVENT
DTSTART;TZID=America/New_York:20250130T100000
DTEND;TZID=America/New_York:20250130T140000
DTSTAMP:20260422T050722
CREATED:20241216T201855Z
LAST-MODIFIED:20250130T204229Z
UID:17273-1738231200-1738245600@vcwsouthcentral.com
SUMMARY:VCW-SBC is happy to host VSP Recruiters
DESCRIPTION:Everyone please stop by our center to discuss employment opportunities and programs that the Virginia State Police offer.  A representative will be on-site from 10am-2pm on the following dates: \nJanuary 30\, 2025 \nFebruary 25\, 2025 \nMarch 18\, 2025 \nApril 17\,2025 \nMay 15\,2025 \nJune 11\, 2025 \nThey’ll be here to answer any questions you may have and provide you with interesting insights into a career in today’s law enforcement! \nVSP-2025-Recruiting-Events (1)
URL:https://vcwsouthcentral.com/event/vcw-sbc-hosts-vsp-recruiters/
LOCATION:Virginia Career Works – South Boston Center\, 2506 HOUGTON AVE\, SOUTH BOSTON\, VA\, 24592\, United States
CATEGORIES:Job Fairs
END:VEVENT
BEGIN:VEVENT
DTSTART;TZID=America/New_York:20241114T100000
DTEND;TZID=America/New_York:20241114T140000
DTSTAMP:20260422T050722
CREATED:20241028T152816Z
LAST-MODIFIED:20241028T154944Z
UID:17247-1731578400-1731592800@vcwsouthcentral.com
SUMMARY:DOLLAR GENERAL - Job Fair hosted by VCW-SBC
DESCRIPTION:The Virginia Career Works – South Boston Center is happy to announce that we will hosting a “Job Fair” for DOLLAR GENERAL.  Applicants are encouraged to apply online or in our center and their representatives will be also be doing onsite interviews for employment as well.  Do not miss out on this excellent chance to join their team! \nDollar General Hiring Event 11-14-24
URL:https://vcwsouthcentral.com/event/dollar-general-job-fair-hosted-by-vcw-sbc/
LOCATION:Virginia Career Works – South Boston Center\, 2506 HOUGTON AVE\, SOUTH BOSTON\, VA\, 24592\, United States
CATEGORIES:Job Fairs
END:VEVENT
BEGIN:VEVENT
DTSTART;TZID=America/New_York:20241003T130000
DTEND;TZID=America/New_York:20241003T190000
DTSTAMP:20260422T050722
CREATED:20240828T174839Z
LAST-MODIFIED:20240912T122247Z
UID:17220-1727960400-1727982000@vcwsouthcentral.com
SUMMARY:VCW-SCR "Hiring Event" for TIC with Interviews to be conducted in South Boston
DESCRIPTION:CLOVER CREEK SOLAR\nPOWER PROJECT \nTIC is building the Clover Creek Solar Farm project in Scottsburg\, Virginia. The job will bring clean\, renewable energy to Halifax Country and surrounding communities. \nThey will be hiring for the following positions and Apprenticeship-Level candidates are highly encouraged to apply: \nBlade operators\nCompactor Operators\nDozer Operators\nExcavator Operators\nHaul Truck Drivers\nHeavy Equipment Mechanics\nLoader operators\nWater Truck Driver \nCandidates should pre-register for the event by coming to any of the Virginia Career Works centers in person! \nVCW-South Boston Center: 2506 Houghton Avenue\, South Boston VA 24592 \nVCW-Lake Country Center: 118 E Danville Street\, South Hill\, VA 23970 \nVCW-Keysville Center: 200 Daniel Road\, Keysville VA 23947 \nPlease see the event flyer below:
URL:https://vcwsouthcentral.com/event/vcw-scr-hiring-event-for-tic-with-interviews-to-be-conducted-in-south-boston/
LOCATION:Virginia Career Works – South Boston Center\, 2506 HOUGTON AVE\, SOUTH BOSTON\, VA\, 24592\, United States
CATEGORIES:Job Fairs
END:VEVENT
BEGIN:VEVENT
DTSTART;TZID=America/New_York:20240806T090000
DTEND;TZID=America/New_York:20240806T160000
DTSTAMP:20260422T050722
CREATED:20240703T131712Z
LAST-MODIFIED:20240703T131712Z
UID:17215-1722934800-1722960000@vcwsouthcentral.com
SUMMARY:Caesars Virginia Dealer School Informational Session
DESCRIPTION:The Virginia Career Works – South Boston Center is happy to host the second and last Caesars Virginia Dealer School Informational Session on Tuesday\, August 6\, 2024 from 9-4pm.  Come speak with their representatives to find out more about this exciting opportunity and see if you might want to pursue a career with them. \nClick on the link below for more information: \nDSIS – SBVCW – 8624 (1)
URL:https://vcwsouthcentral.com/event/caesars-virginia-dealer-school-informational-session-2/
LOCATION:Virginia Career Works – South Boston Center\, 2506 HOUGTON AVE\, SOUTH BOSTON\, VA\, 24592\, United States
CATEGORIES:Job Fairs
END:VEVENT
BEGIN:VEVENT
DTSTART;TZID=America/New_York:20240801T100000
DTEND;TZID=America/New_York:20240801T140000
DTSTAMP:20260422T050722
CREATED:20240711T120307Z
LAST-MODIFIED:20240711T120851Z
UID:17218-1722506400-1722520800@vcwsouthcentral.com
SUMMARY:Hiring Event for Kinetic Potential
DESCRIPTION:The Virginia Career Works -South Boston Center is excited to host a hiring event on August 1\, 2024 from 10am-2pm for Kinetic Potential. \nThey’ll be hiring the following part-time positions: \nTutor/Instructor: 10-20 Hours/Week;  Wage rate depending on experience $25-45/Hour; click here for more information about this opportunity. \nMentor: 15-20 Hours/Week;  Wage rate depending on experience $12-22/Hour; click here for more information about this opportunity. \n***PEASE NOTE***\nAll interested participants must create their profile and apply HERE prior to this event for consideration. 
URL:https://vcwsouthcentral.com/event/hiring-event-for-kinetic-potential/
LOCATION:Virginia Career Works – South Boston Center\, 2506 HOUGTON AVE\, SOUTH BOSTON\, VA\, 24592\, United States
CATEGORIES:Job Fairs
END:VEVENT
BEGIN:VEVENT
DTSTART;TZID=America/New_York:20240722T090000
DTEND;TZID=America/New_York:20240722T160000
DTSTAMP:20260422T050722
CREATED:20240703T131509Z
LAST-MODIFIED:20240703T131509Z
UID:17213-1721638800-1721664000@vcwsouthcentral.com
SUMMARY:Caesars Virginia Dealer School Informational Session
DESCRIPTION:The Virginia Career Works – South Boston Center is happy to host the first of two Caesars Virginia Dealer School Informational Sessions on Monday\, July 22\, 2024 from 9-4pm.  Come speak with their representatives to find out more about this exciting opportunity and see if you might want to pursue a career with them. \nClick on the link below for more information: \nDSIS – SBVCW – 71224 (1)
URL:https://vcwsouthcentral.com/event/caesars-virginia-dealer-school-informational-session/
LOCATION:Virginia Career Works – South Boston Center\, 2506 HOUGTON AVE\, SOUTH BOSTON\, VA\, 24592\, United States
CATEGORIES:Job Fairs
END:VEVENT
BEGIN:VEVENT
DTSTART;TZID=America/New_York:20240718T090000
DTEND;TZID=America/New_York:20240718T150000
DTSTAMP:20260422T050722
CREATED:20240612T181452Z
LAST-MODIFIED:20240612T181452Z
UID:17206-1721293200-1721314800@vcwsouthcentral.com
SUMMARY:VCW-LCC “WALK-IN” HIRING EVENT FOR ROADSAFE TRAFFIC SYSTEMS
DESCRIPTION:Please join us Thursday\, July 18\, 2024 from 9:00-3:00pm to apply and possibly interview with a RoadSafe representative that will be on-site conducting interviews that day!  More information can be found in the flyer below\, so just click on the link below for more information! \n  \nRoadSafe Traffic Systems Hiring Event 06 and 07-24
URL:https://vcwsouthcentral.com/event/vcw-lcc-walk-in-hiring-event-for-roadsafe-traffic-systems-4/
LOCATION:Lake Country Advanced Knowledge Center\, 118 East Danville Street\, South Hill\, VA\, 23970\, United States
CATEGORIES:Job Fairs
END:VEVENT
BEGIN:VEVENT
DTSTART;TZID=America/New_York:20240717T090000
DTEND;TZID=America/New_York:20240717T150000
DTSTAMP:20260422T050722
CREATED:20240612T180832Z
LAST-MODIFIED:20240612T180843Z
UID:17201-1721206800-1721228400@vcwsouthcentral.com
SUMMARY:VCW-SBC “WALK-IN” HIRING EVENT FOR ROADSAFE TRAFFIC SYSTEMS
DESCRIPTION:Please join us Wednesday\, July 17\, 2024 from 9:00-3:00pm to apply and possibly interview with a RoadSafe representative that will be on-site conducting interviews that day!  More information can be found in the flyer below\, so just click on the link below for more information! \n  \nRoadSafe Traffic Systems Hiring Event 06and 07-24
URL:https://vcwsouthcentral.com/event/vcw-sbc-walk-in-hiring-event-for-roadsafe-traffic-systems-4/
LOCATION:Virginia Career Works – South Boston Center\, 2506 HOUGTON AVE\, SOUTH BOSTON\, VA\, 24592\, United States
CATEGORIES:Job Fairs
END:VEVENT
BEGIN:VEVENT
DTSTART;TZID=America/New_York:20240711T090000
DTEND;TZID=America/New_York:20240711T150000
DTSTAMP:20260422T050722
CREATED:20240612T181344Z
LAST-MODIFIED:20240612T181502Z
UID:17205-1720688400-1720710000@vcwsouthcentral.com
SUMMARY:VCW-LCC “WALK-IN” HIRING EVENT FOR ROADSAFE TRAFFIC SYSTEMS
DESCRIPTION:Please join us Thursday\, July 11\, 2024 from 9:00-3:00pm to apply and possibly interview with a RoadSafe representative that will be on-site conducting interviews that day!  More information can be found in the flyer below\, so just click on the link below for more information! \n  \nRoadSafe Traffic Systems Hiring Event 06 and 07-24 \n 
URL:https://vcwsouthcentral.com/event/vcw-lcc-walk-in-hiring-event-for-roadsafe-traffic-systems-3/
LOCATION:Lake Country Advanced Knowledge Center\, 118 East Danville Street\, South Hill\, VA\, 23970\, United States
CATEGORIES:Job Fairs
END:VEVENT
BEGIN:VEVENT
DTSTART;TZID=America/New_York:20240710T090000
DTEND;TZID=America/New_York:20240710T150000
DTSTAMP:20260422T050722
CREATED:20240612T180638Z
LAST-MODIFIED:20240612T180638Z
UID:17200-1720602000-1720623600@vcwsouthcentral.com
SUMMARY:VCW-SBC “WALK-IN” HIRING EVENT FOR ROADSAFE TRAFFIC SYSTEMS
DESCRIPTION:Please join us Wednesday\, July 10\, 2024 from 9:00-3:00pm to apply and possibly interview with a RoadSafe representative that will be on-site conducting interviews that day!  More information can be found in the flyer below\, so just click on the link below for more information! \n  \nRoadSafe Traffic Systems Hiring Event 06and 07-24
URL:https://vcwsouthcentral.com/event/vcw-sbc-walk-in-hiring-event-for-roadsafe-traffic-systems-3/
LOCATION:Virginia Career Works – South Boston Center\, 2506 HOUGTON AVE\, SOUTH BOSTON\, VA\, 24592\, United States
CATEGORIES:Job Fairs
END:VEVENT
BEGIN:VEVENT
DTSTART;TZID=America/New_York:20240703T090000
DTEND;TZID=America/New_York:20240703T150000
DTSTAMP:20260422T050722
CREATED:20240612T175534Z
LAST-MODIFIED:20240612T175534Z
UID:17199-1719997200-1720018800@vcwsouthcentral.com
SUMMARY:VCW-SBC “WALK-IN” HIRING EVENT FOR ROADSAFE TRAFFIC SYSTEMS
DESCRIPTION:Please join us Wednesday\, July 3\, 2024 from 9:00-3:00pm to apply and possibly interview with a RoadSafe representative that will be on-site conducting interviews that day!  More information can be found in the flyer below\, so just click on the link below for more information! \n  \nRoadSafe Traffic Systems Hiring Event 06and 07-24
URL:https://vcwsouthcentral.com/event/vcw-sbc-walk-in-hiring-event-for-roadsafe-traffic-systems-2/
LOCATION:Virginia Career Works – South Boston Center\, 2506 HOUGTON AVE\, SOUTH BOSTON\, VA\, 24592\, United States
CATEGORIES:Job Fairs
END:VEVENT
BEGIN:VEVENT
DTSTART;TZID=America/New_York:20240626T090000
DTEND;TZID=America/New_York:20240626T150000
DTSTAMP:20260422T050722
CREATED:20240612T175329Z
LAST-MODIFIED:20240612T175329Z
UID:17197-1719392400-1719414000@vcwsouthcentral.com
SUMMARY:VCW-SBC “WALK-IN” HIRING EVENT FOR ROADSAFE TRAFFIC SYSTEMS
DESCRIPTION:Please join us Wednesday\, June 26\, 2024 from 9:30-3:00pm to apply and possibly interview with a RoadSafe representative that will be on-site conducting interviews that day!  More information can be found in the flyer below\, so just click on the link below for more information! \nRoadSafe Traffic Systems Hiring Event 06and 07-24 \n 
URL:https://vcwsouthcentral.com/event/vcw-sbc-walk-in-hiring-event-for-roadsafe-traffic-systems/
LOCATION:Virginia Career Works – South Boston Center\, 2506 HOUGTON AVE\, SOUTH BOSTON\, VA\, 24592\, United States
CATEGORIES:Job Fairs
END:VEVENT
BEGIN:VEVENT
DTSTART;TZID=America/New_York:20240613T090000
DTEND;TZID=America/New_York:20240613T150000
DTSTAMP:20260422T050722
CREATED:20240612T181112Z
LAST-MODIFIED:20240612T181209Z
UID:17203-1718269200-1718290800@vcwsouthcentral.com
SUMMARY:VCW-LCC “WALK-IN” HIRING EVENT FOR ROADSAFE TRAFFIC SYSTEMS
DESCRIPTION:Please join us Thursday  June 13\, 2024 from 9:00-3:00pm to apply and possibly interview with a RoadSafe representative that will be on-site conducting interviews that day!  More information can be found in the flyer below\, so just click on the link below for more information! \n  \nRoadSafe Traffic Systems Hiring Event 06 and 07-24
URL:https://vcwsouthcentral.com/event/vcw-lcc-walk-in-hiring-event-for-roadsafe-traffic-systems-2/
LOCATION:Virginia Career Works – Lake Country Center\, 118 East Danville St.\, South Hill\, VA\, 23970\, United States
CATEGORIES:Job Fairs
END:VEVENT
BEGIN:VEVENT
DTSTART;TZID=America/New_York:20240612T080000
DTEND;TZID=America/New_York:20240612T170000
DTSTAMP:20260422T050722
CREATED:20240612T180950Z
LAST-MODIFIED:20240612T180950Z
UID:17202-1718179200-1718211600@vcwsouthcentral.com
SUMMARY:VCW-SBC “WALK-IN” HIRING EVENT FOR ROADSAFE TRAFFIC SYSTEMS
DESCRIPTION:Please join us Wednesday\, July 24\, 2024 from 9:00-3:00pm to apply and possibly interview with a RoadSafe representative that will be on-site conducting interviews that day!  More information can be found in the flyer below\, so just click on the link below for more information! \n  \nRoadSafe Traffic Systems Hiring Event 06and 07-24
URL:https://vcwsouthcentral.com/event/vcw-sbc-walk-in-hiring-event-for-roadsafe-traffic-systems-5/
LOCATION:Virginia Career Works – South Boston Center\, 2506 HOUGTON AVE\, SOUTH BOSTON\, VA\, 24592\, United States
CATEGORIES:Job Fairs
END:VEVENT
BEGIN:VEVENT
DTSTART;TZID=America/New_York:20240530T090000
DTEND;TZID=America/New_York:20240530T163000
DTSTAMP:20260422T050722
CREATED:20240520T182536Z
LAST-MODIFIED:20240520T184844Z
UID:17187-1717059600-1717086600@vcwsouthcentral.com
SUMMARY:VCW-LCC "Walk-In" Hiring Event for RoadSafe Traffic Systems
DESCRIPTION:Please join us Thursday\, May 30\, 2024 from 9:00-4:30pm to apply and possibly interview with a RoadSafe representative that will be on-site conducting interviews that day!  More information can be found in the flyer below\, so just click on the link below for more information! \nhttps://vcwsouthcentral.com/wp-content/uploads/RoadSafe-Traffic-Systems-Hiring-Event-05-30-24-1.pdf \n 
URL:https://vcwsouthcentral.com/event/vcw-lcc-walk-in-hiring-event-for-roadsafe-traffic-systems/
LOCATION:Virginia Career Works – Lake Country Center\, 118 East Danville St.\, South Hill\, VA\, 23970\, United States
CATEGORIES:Job Fairs
END:VEVENT
BEGIN:VEVENT
DTSTART;TZID=America/New_York:20240529T093000
DTEND;TZID=America/New_York:20240529T163000
DTSTAMP:20260422T050722
CREATED:20240520T182757Z
LAST-MODIFIED:20240520T182840Z
UID:17190-1716975000-1717000200@vcwsouthcentral.com
SUMMARY:VCW-SBC "Walk-In" Hiring Event for RoadSafe Traffic Systems
DESCRIPTION:Please join us Wednesday\, May 29\, 2024 from 9:30-4:30pm for to apply and possibly interview with a RoadSafe representative that will be on-site conducting interviews that day!  More information can be found in the flyer below\, so just click on the link below for more information! \nhttps://vcwsouthcentral.com/wp-content/uploads/RoadSafe-Traffic-Systems-Hiring-Event-05-29-24.pdf
URL:https://vcwsouthcentral.com/event/17190/
LOCATION:Virginia Career Works – South Boston Center\, 2506 HOUGTON AVE\, SOUTH BOSTON\, VA\, 24592\, United States
CATEGORIES:Job Fairs
END:VEVENT
BEGIN:VEVENT
DTSTART;TZID=UTC:20240124T100000
DTEND;TZID=UTC:20240124T140000
DTSTAMP:20260422T050722
CREATED:20240104T022819Z
LAST-MODIFIED:20240118T015745Z
UID:17143-1706090400-1706104800@vcwsouthcentral.com
SUMMARY:VCW-SBC is happy to host a "Hiring Event" for Presto
DESCRIPTION:Join us here on the 17th for a chance to interview “In-Person” with Presto managers looking to hire \n“Full Time Production Assistants” \nBenefits they offer are as follows: \n\nminimum starting wage $17.66/ hour\nemployees get their schedule for the whole year\nwork only 1/2 of each month\ntwo 3 day weekends each month\npaid double time on Sundays ($35.32/hour minimum)\n401K\, dental insurance\, vision insurance\, long and short term disability insurance\, wellness benefits\n\nPresto 1.24.2024
URL:https://vcwsouthcentral.com/event/vcw-sbc-is-happy-to-host-a-hiring-event-for-presto/
LOCATION:Virginia Career Works – South Boston Center\, 2506 HOUGTON AVE\, SOUTH BOSTON\, VA\, 24592\, United States
CATEGORIES:Job Fairs
END:VEVENT
BEGIN:VEVENT
DTSTART;TZID=UTC:20231109T090000
DTEND;TZID=UTC:20231109T150000
DTSTAMP:20260422T050722
CREATED:20231026T160648Z
LAST-MODIFIED:20231026T160648Z
UID:17104-1699520400-1699542000@vcwsouthcentral.com
SUMMARY:"RECRUITING VETERANS 101" Tapping into the Veteran Market
DESCRIPTION:Please make plans to attend this HYBRID event… it will be held in-person at the VA Crossings Hotel in Glen Alllen\, VA and there will also be virtual event for those that can not make the trip in person.  Please see the attched flyer for all the details\, so you too can also tap into the Veteran Market! \nRecruiting Veteran 101 – Invite Flyer
URL:https://vcwsouthcentral.com/event/recruiting-veterans-101-tapping-into-the-veteran-market/
LOCATION:VA Crossings Hotel\, 1000 Virginia Center Pkwy.\, Glen Allen\, VA\, 23059\, United States
CATEGORIES:Job Fairs
END:VEVENT
BEGIN:VEVENT
DTSTART;TZID=UTC:20231108T100000
DTEND;TZID=UTC:20231108T150000
DTSTAMP:20260422T050722
CREATED:20231027T200458Z
LAST-MODIFIED:20231027T200710Z
UID:17116-1699437600-1699455600@vcwsouthcentral.com
SUMMARY:DOLLAR GENERAL HIRING EVENT
DESCRIPTION:  \n  \nThe Virginia Career Works – South Boston Center is happy to announce that we will hosting “HIRING EVENT” for DOLLAR GENERAL\,  Applicants are encouraged to apply online or in our center\, but they will also be doing onsite interviews for employment as well.  Do not miss out on this excellent chance to join their team! \nDollar General Hiring Event 10-08-23 Dollar General Hiring Event 10-08-23
URL:https://vcwsouthcentral.com/event/dollar-general-hiring-event-5/
LOCATION:Virginia Career Works – South Boston Center\, 2506 HOUGTON AVE\, SOUTH BOSTON\, VA\, 24592\, United States
CATEGORIES:Job Fairs
END:VEVENT
BEGIN:VEVENT
DTSTART;TZID=UTC:20231102T083000
DTEND;TZID=UTC:20231102T163000
DTSTAMP:20260422T050722
CREATED:20231011T201247Z
LAST-MODIFIED:20231011T201247Z
UID:17075-1698913800-1698942600@vcwsouthcentral.com
SUMMARY:VCW-LCC Hiring Event for Terracon
DESCRIPTION:The Virginia Career Works – Lake Country Center encourages all jobseekers to visit Terracon’s website and EXPLORE what opportunites they offer and have available in our area!  Otherwise you can click either of the links below or the “Terracon Hiring Event” flyer below to find out more: \nENGINEERING TECHNICIAN \nENGINEERING TECHNICIAN III \n  \n11-02-23 Terracon Hiring Event
URL:https://vcwsouthcentral.com/event/vcw-lcc-hiring-event-for-terracon/
LOCATION:Virginia Career Works – Lake Country Center\, 118 East Danville St.\, South Hill\, VA\, 23970\, United States
CATEGORIES:Job Fairs
END:VEVENT
BEGIN:VEVENT
DTSTART;TZID=UTC:20231004T083000
DTEND;TZID=UTC:20231018T163000
DTSTAMP:20260422T050722
CREATED:20231004T204632Z
LAST-MODIFIED:20231004T210641Z
UID:17071-1696408200-1697646600@vcwsouthcentral.com
SUMMARY:Staffing Support Solutions - Hiring Event
DESCRIPTION:Staffing Support Solutions has immediate openings for General Labor positions at the new Crystal Hill Solar site. Compensation is $20 per hour and this is a full time + opportunity. Bring your construction skills and experience or learn on the job. Steel toed boots\, construction vest and hard hat required. \nDon’t hesitate come in and begin the application process at our center or you can visit their website at s3work.com (click “Clients” click “Looking for Work” select any of the Virginia Applications and complete. Upon completion\, you must notify Jayson Lincoln by call or text at (919)-817-6744 \nStaffing Support Solutions Hiring Event 10-04-23 \n 
URL:https://vcwsouthcentral.com/event/staffing-support-solutions-hiring-event/
LOCATION:Virginia Career Works – South Boston Center\, 2506 HOUGTON AVE\, SOUTH BOSTON\, VA\, 24592\, United States
CATEGORIES:Job Fairs
END:VEVENT
BEGIN:VEVENT
DTSTART;TZID=UTC:20230928T090000
DTEND;TZID=UTC:20230928T150000
DTSTAMP:20260422T050722
CREATED:20230911T174439Z
LAST-MODIFIED:20230911T175022Z
UID:17041-1695891600-1695913200@vcwsouthcentral.com
SUMMARY:Gregory Construction "HIRING EVENT" at VCW-LCC
DESCRIPTION:Jobseekers are you looking to join a growing construction company?   Then make sure you attend this upcoming “HIRING EVENT”… Gregory Construction will be hosting this event in our center September 28\, 2023 from 9:00am-3:00pm!  Hiring wages range from $18-$30 per hour based on the job and your qulaifications.  Bring your resume that day and meet with their company representatives to see if you might be their next new hire! \n  \nVCW-LCC Hiring Event for Gregory Construction 09-28-23
URL:https://vcwsouthcentral.com/event/gregory-construction-hiring-event-at-vcw-lcc/
LOCATION:Virginia Career Works – Lake Country Center\, 118 East Danville St.\, South Hill\, VA\, 23970\, United States
CATEGORIES:Job Fairs
END:VEVENT
BEGIN:VEVENT
DTSTART;TZID=UTC:20230913T090000
DTEND;TZID=UTC:20230913T150000
DTSTAMP:20260422T050722
CREATED:20230814T195835Z
LAST-MODIFIED:20230824T230440Z
UID:16994-1694595600-1694617200@vcwsouthcentral.com
SUMMARY:MOSS SOLAR - "Hiring Event"
DESCRIPTION:MOSS SOLAR is looking for hard working people with a strong work ethic and positive attitude! Join their team and create the exceptional! If you’re interested in joining the Moss Solar team\, come complete an application to get registered for their upcoming “Hiring Event“September 13\, 2023 or head over to their “Career Page” for the address of an active site closest to you. \n  \nFoxhound- Job Fair Poster 09.13.2023
URL:https://vcwsouthcentral.com/event/moss-construction-hiring-event/
LOCATION:Virginia Career Works – South Boston Center\, 2506 HOUGTON AVE\, SOUTH BOSTON\, VA\, 24592\, United States
CATEGORIES:Job Fairs
END:VEVENT
BEGIN:VEVENT
DTSTART;TZID=UTC:20230912T090000
DTEND;TZID=UTC:20230912T130000
DTSTAMP:20260422T050722
CREATED:20230830T204757Z
LAST-MODIFIED:20230830T204757Z
UID:17022-1694509200-1694523600@vcwsouthcentral.com
SUMMARY:HALIFAX DEPARTMENT OF CORRECTIONS HIRING EVENT
DESCRIPTION:Job seekers make sure you come check out the opportunities with the VA Department of Corrections.  Their recruiters will be here to assist with the interview process and to answer any questions you may have! \n  \nHalifax DOC Hiring Event 9-14-23
URL:https://vcwsouthcentral.com/event/halifax-department-of-corrections-hiring-event-3/
LOCATION:Virginia Career Works – South Boston Center\, 2506 HOUGTON AVE\, SOUTH BOSTON\, VA\, 24592\, United States
CATEGORIES:Job Fairs
END:VEVENT
BEGIN:VEVENT
DTSTART;TZID=UTC:20230907T083000
DTEND;TZID=UTC:20230907T163000
DTSTAMP:20260422T050722
CREATED:20230824T212835Z
LAST-MODIFIED:20230824T212835Z
UID:17016-1694075400-1694104200@vcwsouthcentral.com
SUMMARY:Harbor Freight Hiring Event
DESCRIPTION:Harbor Freight is coming to South Boston\, VA\, so come discuss with their representatives what openings they have available and make a great first impression with them during this upcoming “Hiring Event”!
URL:https://vcwsouthcentral.com/event/harbor-freight-hiring-event-6/
LOCATION:Virginia Career Works – South Boston Center\, 2506 HOUGTON AVE\, SOUTH BOSTON\, VA\, 24592\, United States
CATEGORIES:Job Fairs
END:VEVENT
BEGIN:VEVENT
DTSTART;TZID=UTC:20230906T083000
DTEND;TZID=UTC:20230906T163000
DTSTAMP:20260422T050722
CREATED:20230824T212743Z
LAST-MODIFIED:20230824T212743Z
UID:17014-1693989000-1694017800@vcwsouthcentral.com
SUMMARY:Harbor Freight Hiring Event
DESCRIPTION:Harbor Freight is coming to South Boston\, VA\, so come discuss with their representatives what openings they have available and make a great first impression with them during this upcoming “Hiring Event”!
URL:https://vcwsouthcentral.com/event/harbor-freight-hiring-event-5/
LOCATION:Virginia Career Works – South Boston Center\, 2506 HOUGTON AVE\, SOUTH BOSTON\, VA\, 24592\, United States
CATEGORIES:Job Fairs
END:VEVENT
END:VCALENDAR