BEGIN:VCALENDAR
VERSION:2.0
PRODID:-//Virginia Career Works South Central Region - ECPv6.15.20//NONSGML v1.0//EN
CALSCALE:GREGORIAN
METHOD:PUBLISH
X-WR-CALNAME:Virginia Career Works South Central Region
X-ORIGINAL-URL:https://vcwsouthcentral.com
X-WR-CALDESC:Events for Virginia Career Works South Central Region
REFRESH-INTERVAL;VALUE=DURATION:PT1H
X-Robots-Tag:noindex
X-PUBLISHED-TTL:PT1H
BEGIN:VTIMEZONE
TZID:America/New_York
BEGIN:DAYLIGHT
TZOFFSETFROM:-0500
TZOFFSETTO:-0400
TZNAME:EDT
DTSTART:20250309T070000
END:DAYLIGHT
BEGIN:STANDARD
TZOFFSETFROM:-0400
TZOFFSETTO:-0500
TZNAME:EST
DTSTART:20251102T060000
END:STANDARD
BEGIN:DAYLIGHT
TZOFFSETFROM:-0500
TZOFFSETTO:-0400
TZNAME:EDT
DTSTART:20260308T070000
END:DAYLIGHT
BEGIN:STANDARD
TZOFFSETFROM:-0400
TZOFFSETTO:-0500
TZNAME:EST
DTSTART:20261101T060000
END:STANDARD
BEGIN:DAYLIGHT
TZOFFSETFROM:-0500
TZOFFSETTO:-0400
TZNAME:EDT
DTSTART:20270314T070000
END:DAYLIGHT
BEGIN:STANDARD
TZOFFSETFROM:-0400
TZOFFSETTO:-0500
TZNAME:EST
DTSTART:20271107T060000
END:STANDARD
END:VTIMEZONE
BEGIN:VEVENT
DTSTART;TZID=America/New_York:20260327T100000
DTEND;TZID=America/New_York:20260327T150000
DTSTAMP:20260420T100511
CREATED:20260306T163829Z
LAST-MODIFIED:20260306T163829Z
UID:17384-1774605600-1774623600@vcwsouthcentral.com
SUMMARY:VCW-SBC is happy to host a "Hiring Event" for the USPS
DESCRIPTION:The VCW-SBC is happy to host a “HIRING EVENT” for our \nUnited State Postal Service \nThey have numerous job openings for the following positions throughout our service area: \nPay varies by position from $21.21-21.89/hour \nARC-Assistant Rural Carrier \nCCA– City Carrier Associate \nRCA– Rural Carrier Assistant \nThe minimum qualifications for employment for USPS are: Valid Driver’s License with at least 2 years of driving experience\, background check\, Residential Alien Card if not U.S. citizen with requirement of having been in the U.S. for at least 5 years. \n03-27-26 USPS Hiring Event
URL:https://vcwsouthcentral.com/event/vcw-sbc-is-happy-to-host-a-hiring-event-for-the-usps/
LOCATION:Virginia Career Works – South Boston Center\, 2506 HOUGTON AVE\, SOUTH BOSTON\, VA\, 24592\, United States
CATEGORIES:Job Fairs
END:VEVENT
END:VCALENDAR