BEGIN:VCALENDAR
VERSION:2.0
PRODID:-//Virginia Career Works South Central Region - ECPv6.15.20//NONSGML v1.0//EN
CALSCALE:GREGORIAN
METHOD:PUBLISH
X-ORIGINAL-URL:https://vcwsouthcentral.com
X-WR-CALDESC:Events for Virginia Career Works South Central Region
REFRESH-INTERVAL;VALUE=DURATION:PT1H
X-Robots-Tag:noindex
X-PUBLISHED-TTL:PT1H
BEGIN:VTIMEZONE
TZID:America/New_York
BEGIN:DAYLIGHT
TZOFFSETFROM:-0500
TZOFFSETTO:-0400
TZNAME:EDT
DTSTART:20240310T070000
END:DAYLIGHT
BEGIN:STANDARD
TZOFFSETFROM:-0400
TZOFFSETTO:-0500
TZNAME:EST
DTSTART:20241103T060000
END:STANDARD
BEGIN:DAYLIGHT
TZOFFSETFROM:-0500
TZOFFSETTO:-0400
TZNAME:EDT
DTSTART:20250309T070000
END:DAYLIGHT
BEGIN:STANDARD
TZOFFSETFROM:-0400
TZOFFSETTO:-0500
TZNAME:EST
DTSTART:20251102T060000
END:STANDARD
BEGIN:DAYLIGHT
TZOFFSETFROM:-0500
TZOFFSETTO:-0400
TZNAME:EDT
DTSTART:20260308T070000
END:DAYLIGHT
BEGIN:STANDARD
TZOFFSETFROM:-0400
TZOFFSETTO:-0500
TZNAME:EST
DTSTART:20261101T060000
END:STANDARD
END:VTIMEZONE
BEGIN:VEVENT
DTSTART;TZID=America/New_York:20251127T080000
DTEND;TZID=America/New_York:20251127T080000
DTSTAMP:20260419T085005
CREATED:20251112T195639Z
LAST-MODIFIED:20251112T195803Z
UID:17340-1764230400-1764230400@vcwsouthcentral.com
SUMMARY:Custom Made Inventory(CMI) is NOW HIRING!
DESCRIPTION:CMI IS HIRING FLYER 11-12-25 \nCMI located in Drakes Branch\, VA is NOW HIRING!!! \nThere are multiple positions available for the following shifts as needed: \nM-F: 7:00am-4:00pm  &  M-F: 9:00am-6:00pm \n  \nInterested Applicants MUST email their resume to vcw.kcenter@gmail.com in order to be considered… \nNO WALK-INS ALLOWED! \n 
URL:https://vcwsouthcentral.com/event/custom-made-inventorycmi-is-now-hiring/
LOCATION:Virginia Career Works – Keysville Center\, 200 Daniel Rd.\, Keysville\, Virginia\, 23947
CATEGORIES:Job Fairs
END:VEVENT
END:VCALENDAR